Workbook
Name \: #REF!
Name \: #REF!
Name \__TOTAL: #REF!
Name \__TOTAL: #REF!
Name \_BUPAH_BAHAN: #REF!
Name \_BUPAH_BAHAN: #REF!
Name \_CALAT__: #REF!
Name \_CALAT__: #REF!
Name \_DMOBILISASI: #REF!
Name \_DMOBILISASI: #REF!
Name \_EMORTAR: #REF!
Name \_EMORTAR: #REF!
Name \_FGALIANBIASA: #REF!
Name \_FGALIANBIASA: #REF!
Name \_GGALIANPADAS: #REF!
Name \_GGALIANPADAS: #REF!
Name \_HURUGANBIASA: #REF!
Name \_HURUGANBIASA: #REF!
Name \_IURUGANPILIHA: #REF!
Name \_IURUGANPILIHA: #REF!
Name \_JPEMADATANTAN: #REF!
Name \_JPEMADATANTAN: #REF!
Name \_KAGREGAT_A: #REF!
Name \_KAGREGAT_A: #REF!
Name \_LAGREGAT_B: #REF!
Name \_LAGREGAT_B: #REF!
Name \_MCTSB: #REF!
Name \_MCTSB: #REF!
Name \_NSEMENPONDASI: #REF!
Name \_NSEMENPONDASI: #REF!
Name \_OPONDASISEMEN: #REF!
Name \_OPONDASISEMEN: #REF!
Name \_PPRIMECOAT: #REF!
Name \_PPRIMECOAT: #REF!
Name \_QTACKCOAT: #REF!
Name \_QTACKCOAT: #REF!
Name \_RBURTU: #REF!
Name \_RBURTU: #REF!
Name \_SPELABURAN: #REF!
Name \_SPELABURAN: #REF!
Name \_THRS: #REF!
Name \_THRS: #REF!
Name \_UATB: #REF!
Name \_UATB: #REF!
Name \_VATBL: #REF!
Name \_VATBL: #REF!
Name \_WAC: #REF!
Name \_WAC: #REF!
Name \_XSMA: #REF!
Name \_XSMA: #REF!
Name \_YK_275: #REF!
Name \_YK_275: #REF!
Name \_ZK_225: #REF!
Name \_ZK_225: #REF!
Name \0: #N/A
Name \a: #N/A
Name \AA: #REF!
Name \AA: #REF!
Name \AAK_175: #REF!
Name \AAK_175: #REF!

Sheet FS
D2: FINAL SUMMARY
B4: VILLA CEMPAKA
B6: Bill No. | C6: Description | D6: Amount
D7: Rp
B9: 1 | C9: MAIN VILLA | D9: ='MAIN VILLA'!H869 -> 3725306700
B10: 2 | C10: EQUIPMENT | D10: ='EQUIPMENT '!I117 -> 1467160014
B11: 3 | C11: FIRE PROTECTION | D11: ='FIRE PROTECTION'!I98 -> 368546000
B12: 4 | C12: SOLAR PANEL | D12: ='SOLAR PANEL'!I40 -> 797700000
B13: 5 | C13: ELECTRONIC | D13: =ELECTRONIC!I79 -> 427219820
B14: 6 | C14: MECHANICAL | D14: =MECHANICAL!I115 -> 2677345000
B15: 7 | C15: ADDITIONAL | D15: =ADDITIONAL!I47 -> 0
B16: 8 | C16: SANITARY (SBO)
B17: 9 | C17: LIGHTING (ARMATURE (SBO) | D17: ='LIGHTING ARMATURE'!I57 -> 0
C19: SUB-TOTAL | D19: =SUM(D8:D18) -> 9463277534
C20: SUB-TOTAL | D20: =SUM(D19:D19) -> 9463277534
C21: TAX -PPN 11% | D21: =D20*11% -> 1.0409605e+09
C22: TOTAL | D22: =SUM(D20:D21) -> 1.0504238e+10
C29: Signature and Company Stamp:
C31: Name:
C33: Position:
C35: Date:

Sheet MAIN VILLA
B2: VILLA CEMPAKA
B3: BILL OF QUANTITY
B4: BILL : MECHANICAL, ELECTRICAL AND PLUMBING WORKS
B6: Item | C6: Description | D6: UOM | E6: Quantity | F6: Amount | G6: Labour | H6: Sub Total Amount | I6: Remaks | J6: REF DRAWING
F7: Rp | G7: Rp | H7: Rp
C9: GENERALLY
C11: The following Bills of Quantities a guidence only. It is the responsibility of the Tenderer to measure and satisfy themselves as to the accuracy of all quantities included therein.
C13: Refer to the Preliminaries section and allow therein for this section for compliance
C15: Refer to the specifications or drawings for full descriptions of materials and workmanship wherever applicable to the Works included hereunder
C17: Refer to the Preambles section for full details of Method of Measurement and Pricing Clauses and allow in the rates for this section for compliance
B19: 1.0 | C19: INFRASTRUCTURE
B20: A | C20: ELECTRICAL INSTALLATION
C21: Supply, lay or apply or install all MEP works as described and shown in the drawings included supporting materials, tools and all necessary fixing accessories to the following
C22: GENERAL
C23: INFRASTRUCTURE ELEKTRIKAL
C24: Koneksi PLN
C25: Pengadaan, pemasangan termasuk testing dan commissioning untuk
B26: 1 | C26: Penyambungan daya PLN termasuk biaya peyambungan Sementara + Biaya Penyambungan , BP, UJL, SLO, dan lain sebagainya untuk daya 233.000 VA | D26: unit | E26: 1 | F26: =196000000+55000000 -> 251000000 | G26: 0 | H26: =E26*(F26+G26) -> 251000000
B27: =B26+1 -> 2 | C27: AVR 200 kVA (optional) | D27: set | E27: 1 | F27: =75000000+5500000 -> 80500000 | G27: 3500000 | H27: =E27*(F27+G27) -> 84000000 | I27: Matsunaga / samoto
C29: =C22 -> GENERAL | D29: Sub-total | H29: =SUM(H26:H27) -> 335000000
B31: A.1 | C31: BASEMENT
C32: YUEY STUDY
B33: 1 | C33: Lighting cable instalation point; NYM 3 x 2,5 sqmm in HIC dia. 20 mm | D33: point | E33: 9 | F33: 275000 | G33: 130000 | H33: =E33*(F33+G33) -> 3645000 | I33: Supreme | J33: EL2-101
B34: 2 | C34: Switch lighting cable instalation point to DB Smarthome BFL-1 Panel ; NYM 3 x 2,5 sqmm in HIC dia. 20 mm | D34: point | E34: 1 | F34: 575000 | G34: 130000 | H34: =E34*(F34+G34) -> 705000 | I34: Supreme | J34: EL2-101
B35: 3 | C35: Smarthome Switch Controll Panel w/ touch keypad display c/w remote device + Gateway & Wiring | D35: unit | E35: 1 | F35: =14750000+(500000*2)+250000 -> 16000000 | G35: 750000 | H35: =E35*(F35+G35) -> 16750000 | I35: Tuya
B36: 4 | C36: Smarthome programming & Setting | D36: lot | E36: 1 | F36: 500000 | G36: 0 | H36: =E36*(F36+G36) -> 500000 | I36: local
B37: 5 | C37: GPO cable instalation point; NYY 3 x 4 sqmm in HIC dia. 20 mm to DB Smarthome BF P-1 | D37: point | E37: 4 | F37: 475000 | G37: 150000 | H37: =E37*(F37+G37) -> 2500000 | I37: Supreme | J37: EL2-201
B38: 6 | C38: GPO cable instalation point; NYY 3 x 4 sqmm in HIC dia. 20 mm to DB Smarthome BF P-2 | D38: point | E38: 5 | F38: 475000 | G38: 150000 | H38: =E38*(F38+G38) -> 3125000 | I38: Supreme | J38: EL2-201
H39: =E39*(F39+G39) -> 0
C40: LIBRARY | H40: =E40*(F40+G40) -> 0
B41: 7 | C41: Lighting cable instalation point; NYM 3 x 2,5 sqmm in HIC dia. 20 mm | D41: point | E41: 9 | F41: 275000 | G41: 130000 | H41: =E41*(F41+G41) -> 3645000 | I41: Supreme | J41: EL2-101
B42: 8 | C42: Switch lighting cable instalation point to DB Smarthome BFL-1 Panel ; NYM 3 x 2,5 sqmm in HIC dia. 20 mm | D42: point | E42: 1 | F42: 575000 | G42: 130000 | H42: =E42*(F42+G42) -> 705000 | I42: Supreme | J42: EL2-101
C44: STORAGE
B45: 9 | C45: Lighting cable instalation point; NYM 3 x 2,5 sqmm in HIC dia. 20 mm | D45: point | E45: 1 | F45: 275000 | G45: 130000 | H45: =E45*(F45+G45) -> 405000 | I45: Supreme | J45: EL2-101
B46: 10 | C46: Fan cable instalation point; NYM 3 x 2,5 sqmm in HIC dia. 20 mm | D46: point | E46: 1 | F46: 275000 | G46: 130000 | H46: =E46*(F46+G46) -> 405000 | I46: Supreme | J46: EL2-101
B47: 11 | C47: Switch lighting cable instalation point to DB Smarthome BFL-4 Panel ; NYM 3 x 2,5 sqmm in HIC dia. 20 mm | D47: point | E47: 1 | F47: 575000 | G47: 130000 | H47: =E47*(F47+G47) -> 705000 | I47: Supreme | J47: EL2-101
B48: 12 | C48: Ceiling Exhaust fan Cap. 80Cfm - siroco FAN | D48: unit | E48: 1 | F48: 1450000 | G48: 300000 | H48: =E48*(F48+G48) -> 1750000 | I48: Panasonic
C50: CORIDOR
B51: 13 | C51: Lighting cable instalation point; NYM 3 x 2,5 sqmm in HIC dia. 20 mm | D51: point | E51: 8 | F51: 275000 | G51: 130000 | H51: =E51*(F51+G51) -> 3240000 | I51: Supreme | J51: EL2-101
B52: 14 | C52: Switch lighting cable instalation point to DB Smarthome BFL-4 Panel ; NYM 3 x 2,5 sqmm in HIC dia. 20 mm | D52: point | E52: 2 | F52: 575000 | G52: 130000 | H52: =E52*(F52+G52) -> 1410000 | I52: Supreme | J52: EL2-101
...

Sheet EQUIPMENT 
B2: VILLA CEMPAKA
B3: BILL OF QUANTITY
B4: BILL : EQUIPMENT WORKS
B6: Item | C6: Description | D6: UOM | E6: Quantity | F6: Amount | G6: Labour | H6: Sub Total Amount | I6: TOTAL | J6: Remaks | K6: REF DRAWING
F7: Rp | G7: Rp | H7: Rp | I7: Rp
C9: GENERALLY
C11: The following Bills of Quantities a guidence only. It is the responsibility of the Tenderer to measure and satisfy themselves as to the accuracy of all quantities included therein.
C13: Refer to the Preliminaries section and allow therein for this section for compliance
C15: Refer to the specifications or drawings for full descriptions of materials and workmanship wherever applicable to the Works included hereunder
C17: Refer to the Preambles section for full details of Method of Measurement and Pricing Clauses and allow in the rates for this section for compliance
B19: 2.0 | C19: INFRASTRUCTURE
C20: EQUIPMENT LIST
C21: Supply, lay or apply or install all MEP works as described and shown in the drawings included supporting materials, tools and all necessary fixing accessories to the following
B23: 2.1 | C23: PLUMBING EQUIPMENT
B24: 1 | C24: DISTRIBUTION PUMP - VERTICAL MULTISTAGE PUMP VSD CAP. 6 m3/hour 50M Head / 3ph / 3,75 kW | D24: Unit | E24: 3 | F24: 36000000 | G24: 2500000 | H24: =F24+G24 -> 38500000 | I24: =H24*E24 -> 115500000 | J24: 2 on duty 1 spare *grundfoss CR 10-6 | K24: BP - 01 A/B/C
B25: 2 | C25: ALTERNATE 3 POMPA VSD Panel include pump mount and Pressure tank | D25: Sets | E25: 1 | F25: 57500000 | G25: 3500000 | H25: =F25+G25 -> 61000000 | I25: =H25*E25 -> 61000000 | J25: Schnieder
B26: 3 | C26: DISTRIBUTION PUMP - VERTICAL MULTISTAGE PUMP VSD CAP. 6 m3/hour 50M Head / 3ph / 3,75 kW | D26: Unit | E26: 3 | F26: 36000000 | G26: 2500002 | H26: =F26+G26 -> 38500002 | I26: =H26*E26 -> 115500006 | J26: 2 on duty 1 spare *grundfoss CR 10-6 | K26: BP - 02 A/B/C
B27: 4 | C27: ALTERNATE 3 POMPA VSD Panel include pump mount and Pressure tank | D27: Sets | E27: 1 | F27: 57500000 | G27: 3500000 | H27: =F27+G27 -> 61000000 | I27: =H27*E27 -> 61000000 | J27: Schnieder
B28: 5 | C28: FILTRATION PUMP - VERTICAL MULTISTAGE PUMP VSD CAP. 4,53 m3/hour 50M Head / 3ph / 1,5 kW | D28: Unit | E28: 2 | F28: 27000000 | G28: 2500004 | H28: =F28+G28 -> 29500004 | I28: =H28*E28 -> 59000008 | J28: 1 on duty 1 spare *Grundfos CR 5-8 | K28: FP - 01 A/B
B29: 6 | C29: ALTERNATE 2 POMPA VSD Panel include pump mount and Pressure tank | D29: Sets | E29: 1 | F29: 47500000 | G29: 3500000 | H29: =F29+G29 -> 51000000 | I29: =H29*E29 -> 51000000 | J29: Schnieder
B30: 7 | C30: Sand Media filter / cap. 4,5m3 /H - automatic Backwash - FRP `1865 | D30: Unit | E30: 1 | F30: =5000000+(200000*6)+1650000 -> 7850000 | G30: 1500000 | H30: =F30+G30 -> 9350000 | I30: =H30*E30 -> 9350000 | J30: Media filter Need to match with water quality test | K30: SF - 01
B31: 8 | C31: MULTI FILTER (ACTIVATED CARBON, FE & MANGANESE FILTER) / Cap. 1,5m3 / H - Automatic Backwash | D31: Set | E31: 1 | F31: =(1200000*3)+(1500000)+(1500000)+(2100000)+(1650000*3) -> 13650000 | G31: 2500000 | H31: =F31+G31 -> 16150000 | I31: =H31*E31 -> 16150000 | J31: Consist of 3 tank / Media filter Need to match with water quality test | K31: MF - 01
B32: 9 | C32: Water Softener / Cap. 1,5m3 / H - Automatic Backwash complete with Brine Tank | D32: Set | E32: 1 | F32: =(1200000*2)+(2500000*4)+(1650000*2)+2000000 -> 17700000 | G32: 2000000 | H32: =F32+G32 -> 19700000 | I32: =H32*E32 -> 19700000 | J32: Consist of 2 tank / Media filter Need to match with water quality test | K32: WS - 01
B33: 10 | C33: Industrial Reverse Osmosis Filter / cap 4,5m3/ H | D33: Set | E33: 1 | F33: 85000000 | G33: 3500000 | H33: =F33+G33 -> 88500000 | I33: =H33*E33 -> 88500000 | J33: kusatsu | K33: RO - 01
B35: =B23 -> 2.1 | C35: =C23 -> PLUMBING EQUIPMENT | D35: Sub-total | I35: =SUM(I24:I33) -> 596700014
B37: 2.2 | C37: HOT WATER EQUIPMENT
B38: 1 | C38: Heat Pump water Heater / AIR TO WATER HEAT PUMP, DOUBLE WALL HEAT EXCHANGERS TYPE, EACH HEAT PUMP INCLUDES A HOT WATER TANK - HEAT CAPACITY 2,80 KW / CAP. 300Liter ex. HICOP - For GROUND FLOOR | D38: Unit | E38: 2 | F38: =Analisa!E21 -> 39240000 | G38: 3500000 | H38: =F38+G38 -> 42740000 | I38: =H38*E38 -> 85480000 | J38: 2 duty | K38: HP - 01, 02
B39: 2 | C39: Heat Pump water Heater / AIR TO WATER HEAT PUMP, DOUBLE WALL HEAT EXCHANGERS TYPE, EACH HEAT PUMP INCLUDES A HOT WATER TANK - HEAT CAPACITY 2,80 KW / CAP. 200Liter ex. HICOP - For Upper FLOOR | D39: Unit | E39: 2 | F39: =Analisa!E25 -> 33690000 | G39: 3000000 | H39: =F39+G39 -> 36690000 | I39: =H39*E39 -> 73380000 | J39: 2 duty | K39: HP - 03, 04
B40: 3 | C40: HOT WATER CIRCULATION PUMPS Cap. 1,8 m3/hour - for Ground Floor ex. Grundfoss | D40: Unit | E40: 2 | F40: 5750000 | G40: 1500000 | H40: =F40+G40 -> 7250000 | I40: =H40*E40 -> 14500000 | J40: 1 duty 1 standby *Grundfos UPA 15-90 | K40: HWCP - 01 A/B
B41: 4 | C41: HOT WATER CIRCULATION PUMPS Cap. 1,8 m3/hour - for Upper Floor x. Grundfoss | D41: Unit | E41: 2 | F41: 3750000 | G41: 1500000 | H41: =F41+G41 -> 5250000 | I41: =H41*E41 -> 10500000 | J41: 2 duty 1 standby *Grundfos UPA 15-90 | K41: HWCP - 02 A/B
B42: 5 | C42: ELECTRIC WATER HEATER HORIZONTAL TYPE Cap. 80Ltr ex. Ariston | D42: Unit | E42: 1 | F42: 4000000 | G42: 500000 | H42: =F42+G42 -> 4500000 | I42: =H42*E42 -> 4500000 | K42: EWH - 01
B43: 6 | C43: ELECTRIC WATER HEATER HORIZONTAL TYPE Cap. 80Ltr ex. Ariston | D43: Unit | E43: 3 | F43: 4000000 | G43: 500000 | H43: =F43+G43 -> 4500000 | I43: =H43*E43 -> 13500000 | K43: EWH - 02, 03, 04
B44: 7 | C44: ELECTRIC WATER HEATER HORIZONTAL TYPE Cap. 15Ltr ex. Ariston | D44: Unit | E44: 1 | F44: 2700000 | G44: 300000 | H44: =F44+G44 -> 3000000 | I44: =H44*E44 -> 3000000 | K44: EWH - 05
B45: 8 | C45: ELECTRIC WATER HEATER HORIZONTAL TYPE Cap. 15Ltr ex. Ariston | D45: Unit | E45: 1 | F45: 2700000 | G45: 300000 | H45: =F45+G45 -> 3000000 | I45: =H45*E45 -> 3000000 | K45: EWH - 06
B47: =B37 -> 2.2 | C47: =C37 -> HOT WATER EQUIPMENT | D47: Sub-total | I47: =SUM(I38:I45) -> 207860000
B50: 2.3 | C50: SWIMMING POOL EQUIPEMENT
B51: 1 | C51: Swiming pool Circulation Pump / Cap. 15 m3/hour / Self Priming Type | D51: unit | E51: 2 | F51: - | G51: - | H51: - | I51: - | J51: SBO | K51: FP - 02 A/B
B52: 2 | C52: Sand Filter for Pool Pump / Cap. 15 m3/hour | D52: unit | E52: 2 | F52: - | G52: - | H52: - | I52: - | J52: SBO | K52: SF - 02, 03
B54: =B50 -> 2.3 | C54: =C50 -> SWIMMING POOL EQUIPEMENT | D54: Sub-total | I54: =SUM(I51:I52) -> 0
B56: 2.4 | C56: GAS EQUIPEMENT
...

Sheet FIRE PROTECTION
B2: VILLA CEMPAKA
B3: BILL OF QUANTITY
B4: BILL : FIRE PROTECTION & ALARM WORKS
B6: Item | C6: Description | D6: UOM | E6: Quantity | F6: Amount | G6: Labour | H6: Sub Total Amount | I6: TOTAL | J6: Remaks | K6: REF DRAWING
F7: Rp | G7: Rp | H7: Rp | I7: Rp
C9: GENERALLY
C11: The following Bills of Quantities a guidence only. It is the responsibility of the Tenderer to measure and satisfy themselves as to the accuracy of all quantities included therein.
C13: Refer to the Preliminaries section and allow therein for this section for compliance
C15: Refer to the specifications or drawings for full descriptions of materials and workmanship wherever applicable to the Works included hereunder
C17: Refer to the Preambles section for full details of Method of Measurement and Pricing Clauses and allow in the rates for this section for compliance
B19: 3.0 | C19: INFRASTRUCTURE
C20: EQUIPMENT LIST
C21: Supply, lay or apply or install all MEP works as described and shown in the drawings included supporting materials, tools and all necessary fixing accessories to the following
B23: 3.1 | C23: FIRE PROTECTION
C24: BASEMENT | K24: F.2 - 101 & 101,1
B25: 1 | C25: Multipurpose Wall Hanging Dry Chemical Powder fire Extinguisher Cap. 3kg | D25: unit | E25: 2 | F25: 875000 | G25: 100000 | H25: =G25+F25 -> 975000 | I25: =H25*E25 -> 1950000 | J25: HOOSEKI
B26: 2 | C26: Carbon Dioxide Wall Hanging fire Extinguisher Cap. 6kg | D26: unit | E26: =1+1 -> 2 | F26: 1900000 | G26: 200000 | H26: =G26+F26 -> 2100000 | I26: =H26*E26 -> 4200000 | J26: HOOSEKI
B27: 3 | C27: ENCAPSULATING AGENT FOR LI-ION BATTERY Propellant Type: Nitrogen Waterbased Chemical - Wall Hanging fire Extinguisher Cap. 6kg | D27: unit | E27: 1 | F27: 6800000 | G27: 200000 | H27: =G27+F27 -> 7000000 | I27: =H27*E27 -> 7000000 | J27: Lithium Fireguard
C29: GROUND FLOOR | K29: F.2 - 102
B30: 1 | C30: Multipurpose Wall Hanging Dry Chemical Powder fire Extinguisher Cap. 3kg | D30: unit | E30: 3 | F30: 875000 | G30: 100000 | H30: =G30+F30 -> 975000 | I30: =H30*E30 -> 2925000 | J30: HOOSEKI
B31: 2 | C31: Class K Fire Extinguishers Wall Hanging type Cap. 6kg | D31: unit | E31: 1 | F31: 1900000 | G31: 200000 | H31: =G31+F31 -> 2100000 | I31: =H31*E31 -> 2100000 | J31: HOOSEKI
B32: 3 | C32: ENCAPSULATING AGENT FOR LI-ION BATTERY Propellant Type: Nitrogen Waterbased Chemical - Wall Hanging fire Extinguisher Cap. 6kg | D32: unit | E32: 1 | F32: 6800000 | G32: 200000 | H32: =G32+F32 -> 7000000 | I32: =H32*E32 -> 7000000 | J32: Lithium Fireguard
B33: 4 | C33: Carbon Dioxide Wheel Type fire Extinguisher Cap. 25kg | D33: unit | E33: 1 | F33: =5900000+1000000 -> 6900000 | G33: 500000 | H33: =G33+F33 -> 7400000 | I33: =H33*E33 -> 7400000 | J33: HOOSEKI
C35: UPPER FLOOR | K35: F.2 - 103
B36: 1 | C36: Multipurpose Wall Hanging Dry Chemical Powder fire Extinguisher Cap. 3kg | D36: unit | E36: 2 | F36: 875000 | G36: 100000 | H36: =G36+F36 -> 975000 | I36: =H36*E36 -> 1950000 | J36: HOOSEKI
B38: =B23 -> 3.1 | C38: =C23 -> FIRE PROTECTION | D38: Sub-total | I38: =SUM(I24:I37) -> 34525000
B40: 3.2 | C40: ALARM SYSTEM
C41: FIRE ALARM
B43: 1 | C43: Master Control Fire Alarm Panel 40zone include box panel utility | D43: sets | E43: 1 | F43: 28000000 | G43: 3500000 | H43: =G43+F43 -> 31500000 | I43: =H43*E43 -> 31500000 | J43: HC
B44: 2 | C44: Terminal Box Fire Alarm Tbfa powder coating finish | D44: unit | E44: 2 | F44: 475000 | G44: 500000 | H44: =G44+F44 -> 975000 | I44: =H44*E44 -> 1950000 | J44: maid + garasi
B45: 3 | C45: UPS cap. 2000Va | D45: unit | E45: 1 | F45: 6929800 | G45: 100000 | H45: =G45+F45 -> 7029800 | I45: =H45*E45 -> 7029800 | J45: Schnieder APC
B46: 4 | C46: manual Push button | D46: unit | E46: 1 | F46: 549600 | G46: 150000 | H46: =G46+F46 -> 699600 | I46: =H46*E46 -> 699600 | J46: hoseki
B47: 5 | C47: End of Line Resistor | D47: unit | E47: 4 | F47: 107500 | G47: 150000 | H47: =G47+F47 -> 257500 | I47: =H47*E47 -> 1030000 | J47: hoseki
B48: 6 | C48: 32 inch monitor display - 4K | D48: unit | E48: 1 | F48: 6250000 | G48: 150000 | H48: =G48+F48 -> 6400000 | I48: =H48*E48 -> 6400000 | J48: Samsung
B49: 7 | C49: Programing all system | D49: lot | E49: 1 | F49: 955800 | G49: 955800 | H49: =G49+F49 -> 1911600 | I49: =H49*E49 -> 1911600 | J49: local
B50: 8 | C50: Main Grounding R. Max 0,5 Ohm cable NYA 6mm2 | D50: lot | E50: 1 | F50: 1500000 | G50: 500000 | H50: =G50+F50 -> 2000000 | I50: =H50*E50 -> 2000000 | J50: local
B51: 9 | C51: Test Commisioning | D51: lot | E51: 1 | F51: 3000000 | G51: 0 | H51: =G51+F51 -> 3000000 | I51: =H51*E51 -> 3000000 | J51: local
C53: BASEMENT
B54: 1 | C54: PHOTO-ELECTRIC SMOKE DETECTOR (CONVENTIONAL SYSTEM) - addresable | D54: unit | E54: 13 | F54: 1150000 | G54: 125000 | H54: =G54+F54 -> 1275000 | I54: =H54*E54 -> 16575000 | J54: Honeywell
B55: 2 | C55: RATE OF RISE HEAT DETECTOR (CONVENTIONAL SYSTEM) - addresable | D55: unit | E55: 6 | F55: 1250000 | G55: 125000 | H55: =G55+F55 -> 1375000 | I55: =H55*E55 -> 8250000 | J55: Honeywell
...

Sheet SOLAR PANEL
B2: VILLA CEMPAKA
B3: BILL OF QUANTITY
B4: BILL : EQUIPMENT WORKS
B6: Item | C6: Description | D6: UOM | E6: Quantity | F6: Amount | G6: Labour | H6: Sub Total Amount | I6: TOTAL | J6: Remaks | K6: REF DRAWING
F7: Rp | G7: Rp | H7: Rp | I7: Rp
C9: GENERALLY
C11: The following Bills of Quantities a guidence only. It is the responsibility of the Tenderer to measure and satisfy themselves as to the accuracy of all quantities included therein.
C13: Refer to the Preliminaries section and allow therein for this section for compliance
C15: Refer to the specifications or drawings for full descriptions of materials and workmanship wherever applicable to the Works included hereunder
C17: Refer to the Preambles section for full details of Method of Measurement and Pricing Clauses and allow in the rates for this section for compliance
B19: 4 | C19: INFRASTRUCTURE
C20: EQUIPMENT LIST
C21: Supply, lay or apply or install all MEP works as described and shown in the drawings included supporting materials, tools and all necessary fixing accessories to the following
B23: 4.1 | C23: SOLAR PANEL
B25: 1 | C25: Solar Cell Panel 575WP - monocristalyn | D25: unit | E25: 30 | F25: =2350000+500000 -> 2850000 | G25: 500000 | H25: =G25+F25 -> 3350000 | I25: =H25*E25 -> 100500000 | J25: Trina Solar
B26: 2 | C26: Hybrid Inverter 20KW 3 ph / IP65 | D26: unit | E26: 2 | F26: =78575000+1500000 -> 80075000 | G26: 2500000 | H26: =G26+F26 -> 82575000 | I26: =H26*E26 -> 165150000 | J26: deye
B27: 3 | C27: MPPT / solar charge controller 100A | D27: unit | E27: 5 | F27: 3500000 | G27: 500000 | H27: =G27+F27 -> 4000000 | I27: =H27*E27 -> 20000000 | J27: Samoto
B28: 4 | C28: SMT Power Litium Battery SL200 - Baterai Lithium LiFePO4 Rack Mount Battery 48V 100Ah | D28: unit | E28: =5*4 -> 20 | F28: =18500000+1200000 -> 19700000 | G28: 1000000 | H28: =G28+F28 -> 20700000 | I28: =H28*E28 -> 414000000 | J28: Samoto
B29: 5 | C29: PV combiner-polyfiber IP66 rate - 5 string | D29: unit | E29: 1 | F29: =Analisa!E35 -> 34350000 | G29: 3500000 | H29: =F29+G29 -> 37850000 | I29: =H29*E29 -> 37850000 | J29: panel maker
B30: 6 | C30: solar panel cable + Roof mounting + Accessories + Bracket | D30: lots | E30: 1 | F30: 30000000 | G30: 5000000 | H30: =F30+G30 -> 35000000 | I30: =H30*E30 -> 35000000 | J30: local
B31: 7 | C31: Batrre Rack 15U panel | D31: unit | E31: 4 | F31: 5300000 | G31: 500000 | H31: =F31+G31 -> 5800000 | I31: =H31*E31 -> 23200000 | J31: indorack
B32: 8 | C32: Test Commisioning | D32: lot | E32: 1 | F32: 2000000 | G32: 0 | H32: =G32+F32 -> 2000000 | I32: =H32*E32 -> 2000000 | J32: local
B34: =B23 -> 4.1 | C34: =C23 -> SOLAR PANEL | D34: Sub-total | I34: =SUM(I25:I33) -> 797700000
C36: GENERAL SUMMARY
B38: =B34 -> 4.1 | C38: =C34 -> SOLAR PANEL | I38: =I34 -> 797700000
C40: GENERAL SUMMARY | D40: Sub-total | I40: =SUM(I38:I38) -> 797700000

Sheet ELECTRONIC
B2: VILLA CEMPAKA
B3: BILL OF QUANTITY
B4: BILL : ELECTRONIC WORKS
B6: Item | C6: Description | D6: UOM | E6: Quantity | F6: Amount | G6: Labour | H6: Sub Total Amount | I6: TOTAL | J6: Remaks | K6: REF DRAWING
F7: Rp | G7: Rp | H7: Rp | I7: Rp
C9: GENERALLY
C11: The following Bills of Quantities a guidence only. It is the responsibility of the Tenderer to measure and satisfy themselves as to the accuracy of all quantities included therein.
C13: Refer to the Preliminaries section and allow therein for this section for compliance
C15: Refer to the specifications or drawings for full descriptions of materials and workmanship wherever applicable to the Works included hereunder
C17: Refer to the Preambles section for full details of Method of Measurement and Pricing Clauses and allow in the rates for this section for compliance
B19: 5 | C19: ELECTRONICS WORKS
C20: Supply, lay or apply or install all MEP works as described and shown in the drawings included supporting materials, tools and all necessary fixing accessories to the following
B22: 5.1 | C22: TELEPHONE & DATA
B24: 1 | C24: Data wall Outlet | D24: unit | E24: 17 | F24: 165000 | G24: 15000 | H24: =G24+F24 -> 180000 | I24: =H24*E24 -> 3060000 | J24: Schnieder Avataron
B25: 2 | C25: TV wall outlet | D25: unit | E25: 12 | F25: 165000 | G25: 15000 | H25: =G25+F25 -> 180000 | I25: =H25*E25 -> 2160000 | J25: Schnieder Avataron
B26: 3 | C26: Telephone wall outlet | D26: unit | E26: 20 | F26: 165000 | G26: 15000 | H26: =G26+F26 -> 180000 | I26: =H26*E26 -> 3600000 | J26: Schnieder Avataron
B27: 4 | C27: USB wall outlet 2 type | D27: unit | E27: 9 | F27: 1200000 | G27: 15000 | H27: =G27+F27 -> 1215000 | I27: =H27*E27 -> 10935000 | J27: Schnieder Avataron
B28: 5 | C28: USBL wall outlet 2 type | D28: unit | E28: 20 | F28: 1650000 | G28: 15000 | H28: =G28+F28 -> 1665000 | I28: =H28*E28 -> 33300000 | J28: Schnieder Avataron
B29: 6 | C29: Converter + TV wall outlet to RF port | D29: unit | E29: 1 | F29: 475000 | G29: 15000 | H29: =G29+F29 -> 490000 | I29: =H29*E29 -> 490000 | J29: Schnieder Avataron
B30: 7 | C30: Optical Network Unit | D30: unit | E30: 1 | F30: 0 | G30: 0 | H30: =G30+F30 -> 0 | I30: =H30*E30 -> 0 | J30: by internet provider
B31: 8 | C31: Optical Network Terminal | D31: unit | E31: 1 | F31: 0 | G31: 0 | H31: =G31+F31 -> 0 | I31: =H31*E31 -> 0 | J31: by internet provider
B32: 9 | C32: Internet service profider | D32: unit | E32: 1 | F32: 0 | G32: 0 | H32: =G32+F32 -> 0 | I32: =H32*E32 -> 0 | J32: SBO
B33: 10 | C33: Telephone terminal Block with krone connector upto 50 pair + BMF 5 | D33: unit | E33: 3 | F33: 1500000 | G33: 500000 | H33: =G33+F33 -> 2000000 | I33: =H33*E33 -> 6000000
B34: 11 | C34: IP PABX 32 ext - upto 8 line c/w master phone | D34: unit | E34: 1 | F34: 25000000 | G34: 500000 | H34: =G34+F34 -> 25500000 | I34: =H34*E34 -> 25500000 | J34: panasonic
B35: 12 | C35: Telephone Headset | D35: unit | E35: 20 | F35: 575000 | G35: 15000 | H35: =G35+F35 -> 590000 | I35: =H35*E35 -> 11800000 | J35: panasonic
B36: 13 | C36: Wifi Access Point (wall or ceiling Mounted) | D36: unit | E36: 23 | F36: 2150000 | G36: 200000 | H36: =G36+F36 -> 2350000 | I36: =H36*E36 -> 54050000 | J36: Ruijie
B37: 14 | C37: L2 MANAGEABLE GIGABIT SWITCH 24 RJ45 PORTS & 4 SFP w/ PoE + (INTERNET + TELEPHONE) | D37: unit | E37: 1 | F37: 7500000 | G37: 200000 | H37: =G37+F37 -> 7700000 | I37: =H37*E37 -> 7700000 | J37: Ruijie
B38: 15 | C38: standing mount data rack Cap. 20U c/w power outlet | D38: unit | E38: 2 | F38: 6500000 | G38: 500000 | H38: =G38+F38 -> 7000000 | I38: =H38*E38 -> 14000000 | J38: Data Rack
B39: 16 | C39: UPS cap. 2000Va | D39: unit | E39: 1 | F39: 6929800 | G39: 100000 | H39: =G39+F39 -> 7029800 | I39: =H39*E39 -> 7029800 | J39: Schnieder APC
B40: 17 | C40: Programing all system | D40: lot | E40: 1 | F40: 2000000 | G40: 0 | H40: =G40+F40 -> 2000000 | I40: =H40*E40 -> 2000000 | J40: local
B41: 18 | C41: Main Grounding R. Max 1 Ohm cable NYA 6mm2 | D41: lot | E41: 1 | F41: 1500000 | G41: 0 | H41: =G41+F41 -> 1500000 | I41: =H41*E41 -> 1500000 | J41: local
B42: 19 | C42: Test Commisioning | D42: lot | E42: 1 | F42: 2000000 | G42: 0 | H42: =G42+F42 -> 2000000 | I42: =H42*E42 -> 2000000 | J42: local
C44: BASEMENT
B45: 1 | C45: Data Outlet Cable Instalation RJ-45 + hic 20mm | D45: point | E45: 10 | F45: 875000 | G45: 150000 | H45: =G45+F45 -> 1025000 | I45: =H45*E45 -> 10250000 | J45: belden
B46: 2 | C46: TV Outlet Cable Instalation RJ-45 + hic 20mm | D46: point | E46: 6 | F46: 875000 | G46: 150000 | H46: =G46+F46 -> 1025000 | I46: =H46*E46 -> 6150000 | J46: belden
B47: 3 | C47: Telephone Outlet Cable Instalation RJ-11 + hic 20mm | D47: point | E47: 7 | F47: 475000 | G47: 150001 | H47: =G47+F47 -> 625001 | I47: =H47*E47 -> 4375007 | J47: belden
B48: 4 | C48: TV Outlet Cable Instalation COAX RG6 + hic 20mm | D48: point | E48: 1 | F48: 875000 | G48: 150000 | H48: =G48+F48 -> 1025000 | I48: =H48*E48 -> 1025000 | J48: belden
C50: GROUND FLOOR
B51: 1 | C51: Data Outlet Cable Instalation RJ-45 + hic 20mm | D51: point | E51: 3 | F51: 875000 | G51: 150000 | H51: =G51+F51 -> 1025000 | I51: =H51*E51 -> 3075000 | J51: belden
B52: 2 | C52: TV Outlet Cable Instalation RJ-45 + hic 20mm | D52: point | E52: 2 | F52: 875000 | G52: 150000 | H52: =G52+F52 -> 1025000 | I52: =H52*E52 -> 2050000 | J52: belden
...

Sheet MECHANICAL
B2: VILLA CEMPAKA
B3: BILL OF QUANTITY
B4: BILL : MECHANICAL WORKS
B6: Item | C6: Description | D6: UOM | E6: Quantity | F6: Amount | G6: Labour | H6: Sub Total Amount | I6: TOTAL | J6: Remaks | K6: REF DRAWING
F7: Rp | G7: Rp | H7: Rp | I7: Rp
C9: GENERALLY
C11: The following Bills of Quantities a guidence only. It is the responsibility of the Tenderer to measure and satisfy themselves as to the accuracy of all quantities included therein.
C13: Refer to the Preliminaries section and allow therein for this section for compliance
C15: Refer to the specifications or drawings for full descriptions of materials and workmanship wherever applicable to the Works included hereunder
C17: Refer to the Preambles section for full details of Method of Measurement and Pricing Clauses and allow in the rates for this section for compliance
B19: 6 | C19: MECHANICAL WORKS
C20: Supply, lay or apply or install all MEP works as described and shown in the drawings included supporting materials, tools and all necessary fixing accessories to the following
B22: 6.1 | C22: AIR CONDITIONER SYSTEM
C24: BASEMENT
B25: 1 | C25: Ceiling Mounted Duct type Motor PWR 0.18KW - Tot Cap.3.9kw INDOOR UNIT | D25: unit | E25: 1 | F25: 24100000 | G25: 1500000 | H25: =G25+F25 -> 25600000 | I25: =H25*E25 -> 25600000 | J25: DAIKIN FXDQ 32 SPV14
B26: 2 | C26: Ceiling Mounted Duct type Motor PWR 0.1KW - Tot Cap.3.5kw INDOOR UNIT | D26: unit | E26: 1 | F26: 24100000 | G26: 1500000 | H26: =G26+F26 -> 25600000 | I26: =H26*E26 -> 25600000 | J26: DAIKIN FXDQ 32 SPV15
B27: 3 | C27: Ceiling Mounted Duct type Motor PWR 0.2KW - Tot Cap.7.1kw INDOOR UNIT | D27: unit | E27: 1 | F27: 28250000 | G27: 2000000 | H27: =G27+F27 -> 30250000 | I27: =H27*E27 -> 30250000 | J27: DAIKIN FXDQ 63 SPV14
B28: 4 | C28: Ceiling Mounted Duct type Motor PWR 0.15KW - Tot Cap.6.3kw INDOOR UNIT | D28: unit | E28: 1 | F28: 28250000 | G28: 2000000 | H28: =G28+F28 -> 30250000 | I28: =H28*E28 -> 30250000 | J28: DAIKIN FXDQ 63 SPV15
B29: 5 | C29: Ceiling Mounted Duct type Motor PWR 0.2KW - Tot Cap.8.1kw INDOOR UNIT | D29: unit | E29: 1 | F29: 32150000 | G29: 2000000 | H29: =G29+F29 -> 34150000 | I29: =H29*E29 -> 34150000 | J29: DAIKIN FXDBQ 40 AVM4
B30: 6 | C30: Ceiling Mounted Duct type Motor PWR 0.2KW - Tot Cap.8.5kw INDOOR UNIT | D30: unit | E30: 1 | F30: 32150000 | G30: 2000000 | H30: =G30+F30 -> 34150000 | I30: =H30*E30 -> 34150000 | J30: DAIKIN FXDBQ 40 AVM5
B31: 7 | C31: Ceiling Mounted Duct type Motor PWR 0.15KW - Tot Cap.6.6kw INDOOR UNIT | D31: unit | E31: 1 | F31: 28250000 | G31: 2000000 | H31: =G31+F31 -> 30250000 | I31: =H31*E31 -> 30250000 | J31: DAIKIN FXDQ 63 SPV15
B32: 8 | C32: outdoor Unit Cap.44kw / 3 phase 4-wire system, 380-415V, 50Hz / R.410A | D32: unit | E32: 1 | F32: =265000000 -> 265000000 | G32: 8000000 | H32: =G32+F32 -> 273000000 | I32: =H32*E32 -> 273000000 | J32: DAIKIN RXQ 16 AY14
B33: 9 | C33: Drain Pipe PVC 25mm with PU foam insulation 19mm | D33: unit | E33: =SUM(E25:E32) -> 8 | F33: =(30*30000)+(30*55000) -> 2550000 | G33: 200000 | H33: =G33+F33 -> 2750000 | I33: =H33*E33 -> 22000000 | J33: rucika / aeroflex
B34: 10 | C34: Power + Control Cable From outdoor to each inddor unit - NYY 4x4mm + HIC 20mm | D34: unit | E34: 7 | F34: =((2*(50*75000))+(50*15000)) -> 8250000 | G34: 250000 | H34: =G34+F34 -> 8500000 | I34: =H34*E34 -> 59500000 | J34: supreme
B35: 11 | C35: Power From SDP to outdoor unit - NYY 4x4mm + HIC 20mm | D35: unit | E35: 1 | F35: =((2*(50*75000))+(50*15000)) -> 8250000 | G35: 250000 | H35: =G35+F35 -> 8500000 | I35: =H35*E35 -> 8500000 | J35: supreme
B36: 12 | C36: Refrigerant Pipe 95mmx15,9mm c/w insulator 19mm c/w ductape + bracket | D36: m1 | E36: =15+15+20+25+30+40+55 -> 200 | F36: =235000+115000+55000+30000 -> 435000 | G36: 150000 | H36: =G36+F36 -> 585000 | I36: =H36*E36 -> 117000000 | J36: denji / aeroflex
C38: GROUND FLOOR
B39: 13 | C39: Ceiling Mounted Duct type Motor PWR 0.2KW - Tot Cap.9.9kw INDOOR UNIT | D39: unit | E39: 1 | F39: 32500000 | G39: 2500000 | H39: =G39+F39 -> 35000000 | I39: =H39*E39 -> 35000000 | J39: DAIKIN FXSQ 40 PVE/PAV-R
B40: 14 | C40: Ceiling Mounted Duct type Motor PWR 0.1KW - Tot Cap.2.8kw INDOOR UNIT | D40: unit | E40: 1 | F40: 24100000 | G40: 1500000 | H40: =G40+F40 -> 25600000 | I40: =H40*E40 -> 25600000 | J40: DAIKIN FXDQ 32 SPV14
B41: 15 | C41: Ceiling Mounted Duct type Motor PWR 0.1KW - Tot Cap.5.4kw INDOOR UNIT | D41: unit | E41: 1 | F41: 27100000 | G41: 1500000 | H41: =G41+F41 -> 28600000 | I41: =H41*E41 -> 28600000 | J41: DAIKIN FXDQ 40 SPV14
B42: 16 | C42: Ceiling Mounted Duct type Motor PWR 1,5KW - Tot Cap.14,9kw INDOOR UNIT | D42: unit | E42: 1 | F42: 38500000 | G42: 250000 | H42: =G42+F42 -> 38750000 | I42: =H42*E42 -> 38750000 | J42: DAIKIN FXSQ 80 PVE/PAV-R
B43: 17 | C43: Ceiling Mounted Duct type Motor PWR 0.2KW - Tot Cap.9.9kw INDOOR UNIT | D43: unit | E43: 1 | F43: 32500000 | G43: 2500000 | H43: =G43+F43 -> 35000000 | I43: =H43*E43 -> 35000000 | J43: DAIKIN FXSQ 40 PVE/PAV-R
B44: 18 | C44: Ceiling Mounted Duct type Motor PWR 0.1KW - Tot Cap.1.9kw INDOOR UNIT | D44: unit | E44: 1 | F44: 25750000 | G44: 1500000 | H44: =G44+F44 -> 27250000 | I44: =H44*E44 -> 27250000 | J44: DAIKIN FXDQ 25 SPV14
B45: 19 | C45: Ceiling Mounted Duct type Motor PWR 0.2KW - Tot Cap.7.8kw INDOOR UNIT | D45: unit | E45: 1 | F45: 32150000 | G45: 2000000 | H45: =G45+F45 -> 34150000 | I45: =H45*E45 -> 34150000 | J45: DAIKIN FXDBQ 40 AVM4
B46: 20 | C46: Ceiling Mounted Duct type Motor PWR 0.15KW - Tot Cap.6.6kw INDOOR UNIT | D46: unit | E46: 1 | F46: 28250000 | G46: 2000000 | H46: =G46+F46 -> 30250000 | I46: =H46*E46 -> 30250000 | J46: DAIKIN FXDQ 63 SPV15
B47: 21 | C47: outdoor Unit Cap.47,9kw / 3 phase 4-wire system, 380-415V, 50Hz / R.410A | D47: unit | E47: 1 | F47: =265000000 -> 265000000 | G47: 8000000 | H47: =G47+F47 -> 273000000 | I47: =H47*E47 -> 273000000 | J47: DAIKIN RXQ 18 AY14
B48: 22 | C48: outdoor Unit Cap.24.1kw / 3 phase 4-wire system, 380-415V, 50Hz / R.410A | D48: unit | E48: 1 | F48: 175000000 | G48: 7500000 | H48: =G48+F48 -> 182500000 | I48: =H48*E48 -> 182500000 | J48: DAIKIN RXQ 10 AY14
B49: 23 | C49: Drain Pipe PVC 25mm with PU foam insulation 19mm | D49: unit | E49: =SUM(E39:E46) -> 8 | F49: =(20*30000)+(20*55000) -> 1700000 | G49: 200000 | H49: =G49+F49 -> 1900000 | I49: =H49*E49 -> 15200000 | J49: rucika / aeroflex
B50: 24 | C50: Power + Control Cable From outdoor to each inddor unit - NYY 4x4mm + HIC 20mm | D50: unit | E50: =SUM(E39:E46) -> 8 | F50: =((2*(50*75000))+(50*15000)) -> 8250000 | G50: 250000 | H50: =G50+F50 -> 8500000 | I50: =H50*E50 -> 68000000 | J50: supreme
B51: 25 | C51: Power From SDP to outdoor unit - NYY 4x4mm + HIC 20mm | D51: unit | E51: 2 | F51: =((2*(30*75000))+(30*15000)) -> 4950000 | G51: 250000 | H51: =G51+F51 -> 5200000 | I51: =H51*E51 -> 10400000 | J51: supreme
...

Sheet ADDITIONAL
B2: VILLA CEMPAKA
B3: BILL OF QUANTITY
B4: BILL : ADDITIONAL WORKS
B6: Item | C6: Description | D6: UOM | E6: Quantity | F6: Amount | G6: Labour | H6: Sub Total Amount | I6: TOTAL | J6: Remaks | K6: REF DRAWING
F7: Rp | G7: Rp | H7: Rp | I7: Rp
C9: GENERALLY
C11: The following Bills of Quantities a guidence only. It is the responsibility of the Tenderer to measure and satisfy themselves as to the accuracy of all quantities included therein.
C13: Refer to the Preliminaries section and allow therein for this section for compliance
C15: Refer to the specifications or drawings for full descriptions of materials and workmanship wherever applicable to the Works included hereunder
C17: Refer to the Preambles section for full details of Method of Measurement and Pricing Clauses and allow in the rates for this section for compliance
B19: 7 | C19: ADDITIONAL WORKS
C20: Supply, lay or apply or install all MEP works as described and shown in the drawings included supporting materials, tools and all necessary fixing accessories to the following
C25: put any additional item here
B40: =B19 -> 7 | C40: =C19 -> ADDITIONAL WORKS | D40: Sub-total | I40: =SUM(I23:I39) -> 0
C43: GENERAL SUMMARY
B45: =B40 -> 7 | C45: =C40 -> ADDITIONAL WORKS | I45: =I40 -> 0
C47: GENERAL SUMMARY | D47: Sub-total | I47: =SUM(I45:I45) -> 0

Sheet SANITARY
B2: VILLA CEMPAKA
B3: BILL OF QUANTITY
B4: BILL : SANITARY WORKS
B6: Item | C6: Description | D6: UOM | E6: Quantity | F6: Amount | G6: Labour | I6: TOTAL | J6: Remaks | K6: REF DRAWING
F7: Rp | G7: Rp | I7: Rp
C9: GENERALLY
C11: The following Bills of Quantities a guidence only. It is the responsibility of the Tenderer to measure and satisfy themselves as to the accuracy of all quantities included therein.
C13: Refer to the Preliminaries section and allow therein for this section for compliance
C15: Refer to the specifications or drawings for full descriptions of materials and workmanship wherever applicable to the Works included hereunder
C17: Refer to the Preambles section for full details of Method of Measurement and Pricing Clauses and allow in the rates for this section for compliance
B19: 8 | C19: SANITARY WORKS
C20: Supply, lay or apply or install all MEP works as described and shown in the drawings included supporting materials, tools and all necessary fixing accessories to the following
C22: BASEMENT
C23: Ceiling Shower | D23: unit | E23: 1 | F23: 12690000 | G23: 500000 | H23: =G23*E23 -> 500000 | I23: =(G23+F23)*E23 -> 13190000 | J23: Guest Room 1 Shower | K23: TX499SN
C24: EGO II Thermostat Bath & Shower Mixer with Diverter & Stop Valve | D24: unit | E24: 1 | F24: 7110000 | G24: 1500000 | H24: =G24*E24 -> 1500000 | I24: =(G24+F24)*E24 -> 8610000 | J24: Guest Room 1 Shower Tap | K24: TX473SEN
C25: EGO Hand Shower Set | D25: unit | E25: 1 | F25: 1110000 | G25: 100000 | H25: =G25*E25 -> 100000 | I25: =(G25+F25)*E25 -> 1210000 | J25: Guest Room 1 Hand Shower | K25: THX118SEN
C26: MONO Sliding Rail | D26: unit | E26: 1 | F26: 2040000 | G26: 350000 | H26: =G26*E26 -> 350000 | I26: =(G26+F26)*E26 -> 2390000 | J26: Guest Room 1 Mono Sliding Rail | K26: TX721AM
C27: MA 8" Lavatory Faucet with 1/14 pop up waste | D27: unit | E27: 1 | F27: 4770000 | G27: 300000 | H27: =G27*E27 -> 300000 | I27: =(G27+F27)*E27 -> 5070000 | J27: Guest Room 1 Tap 1 | K27: TX5119LT
C28: MA 8" Lavatory Faucet with 1/14 pop up waste | D28: unit | E28: 1 | F28: 4770000 | G28: 300000 | H28: =G28*E28 -> 300000 | I28: =(G28+F28)*E28 -> 5070000 | J28: Guest Room 1 Tap 2 | K28: TX5119LT
C29: LEMUSE Floor Standing Progressive Bath & Shower Set | D29: unit | E29: 1 | F29: 13270000 | G29: 2000000 | H29: =G29*E29 -> 2000000 | I29: =(G29+F29)*E29 -> 15270000 | J29: Guest Room 1 Bathtub Tap | K29: TX494SQN
C30: Cast Stone Bathtub with Pop up waste | D30: unit | E30: 1 | F30: 120000000 | G30: 200000 | H30: =G30*E30 -> 200000 | I30: =(G30+F30)*E30 -> 120200000 | J30: Guest Room 1 Bathtub | K30: PJY1724HPWE#MW
C31: Alisei Wall Hung 4.5/3 Dual Flash Rimless Tornado Flush Solid Duroplast Seat Cover | D31: unit | E31: 1 | F31: 15190000 | G31: 750000 | H31: =G31*E31 -> 750000 | I31: =(G31+F31)*E31 -> 15940000 | J31: Guest Room 1 Toilet | K31: CW 274J
H32: =G32*E32 -> 0
C33: Ceiling Shower | D33: unit | E33: 1 | F33: 12690000 | G33: 300000 | H33: =G33*E33 -> 300000 | I33: =(G33+F33)*E33 -> 12990000 | J33: Guest Room 2 Shower | K33: TX499SN
C34: EGO II Thermostat Bath & Shower Mixer with Diverter & Stop Valve | D34: unit | E34: 1 | F34: 7110000 | G34: 1500000 | H34: =G34*E34 -> 1500000 | I34: =(G34+F34)*E34 -> 8610000 | J34: Guest Room 2 Shower Tap | K34: TX473SEN
C35: EGO Hand Shower Set | D35: unit | E35: 1 | F35: 1110000 | G35: 250000 | H35: =G35*E35 -> 250000 | I35: =(G35+F35)*E35 -> 1360000 | J35: Guest Room 2 Handshower | K35: THX118SEN
C36: MONO Sliding Rail | D36: unit | E36: 1 | F36: 2040000 | G36: 350000 | H36: =G36*E36 -> 350000 | I36: =(G36+F36)*E36 -> 2390000 | J36: Guest Room 2 Mono Sliding Rail | K36: TX721AM
C37: MA 8" Lavatory Faucet with 1/14 pop up waste | D37: unit | E37: 1 | F37: 4770000 | G37: 300000 | H37: =G37*E37 -> 300000 | I37: =(G37+F37)*E37 -> 5070000 | J37: Guest Room 2 Tap 1 | K37: TX5119MMA
C38: MA 8" Lavatory Faucet with 1/14 pop up waste | D38: unit | E38: 1 | F38: 4770000 | G38: 300000 | H38: =G38*E38 -> 300000 | I38: =(G38+F38)*E38 -> 5070000 | J38: Guest Room 2 Tap 2 | K38: TX5119MMA
C39: Alisei Wall Hung 4.5/3 Dual Flash Rimless Tornado Flush Solid Duroplast Seat Cover | D39: unit | E39: 1 | F39: 15190000 | G39: 750000 | H39: =G39*E39 -> 750000 | I39: =(G39+F39)*E39 -> 15940000 | J39: Guest Room 2 |Toilet | K39: CW 274J
H40: =G40*E40 -> 0
C41: Icon Fixed Shower Head | D41: unit | E41: 1 | F41: 3810000 | G41: 150000 | H41: =G41*E41 -> 150000 | I41: =(G41+F41)*E41 -> 3960000 | J41: Common Bathroom Shower | K41: TX491SI
C42: EGO II Thermostat Bath & Shower Mixer with Diverter & Stop Valve | D42: unit | E42: 1 | F42: 7110000 | G42: 1500000 | H42: =G42*E42 -> 1500000 | I42: =(G42+F42)*E42 -> 8610000 | J42: Common Bathroom Shower Tap | K42: TX473SEN
C43: MA 8" Lavatory Faucet with 1/14 pop up waste | D43: unit | E43: 1 | F43: 4770000 | G43: 300000 | H43: =G43*E43 -> 300000 | I43: =(G43+F43)*E43 -> 5070000 | J43: Common Bathroom Tap | K43: TX5119MMA
C44: Alisei Wall Hung 4.5/3 Dual Flash Rimless Tornado Flush Solid Duroplast Seat Cover | D44: unit | E44: 1 | F44: 15190000 | G44: 750000 | H44: =G44*E44 -> 750000 | I44: =(G44+F44)*E44 -> 15940000 | J44: Common Bathroom Toilet | K44: CW 274J
H45: =G45*E45 -> 0
C46: GROUND FLOOR | H46: =G46*E46 -> 0
C47: Living Room Bar Tap | D47: unit | E47: 1 | F47: 2797000 | G47: 250000 | H47: =G47*E47 -> 250000 | I47: =(G47+F47)*E47 -> 3047000 | J47: Living Room Bar Tap | K47: LINA XL SWIVEL
C48: Living Room Bar Sink | D48: unit | E48: 1 | F48: 8100000 | G48: 550000 | H48: =G48*E48 -> 550000 | I48: =(G48+F48)*E48 -> 8650000 | J48: Living Room Bar Sink | K48: BOX-210-45
H49: =G49*E49 -> 0
...

Sheet LIGHTING ARMATURE
B2: VILLA CEMPAKA
B3: BILL OF QUANTITY
B4: BILL : LIGHTING ARMATURE WORKS
B6: Item | C6: Description | D6: UOM | E6: Quantity | F6: Amount | G6: Labour | H6: Sub Total Amount | I6: TOTAL | J6: Remaks | K6: REF DRAWING
F7: Rp | G7: Rp | H7: Rp | I7: Rp
C9: GENERALLY
C11: The following Bills of Quantities a guidence only. It is the responsibility of the Tenderer to measure and satisfy themselves as to the accuracy of all quantities included therein.
C13: Refer to the Preliminaries section and allow therein for this section for compliance
C15: Refer to the specifications or drawings for full descriptions of materials and workmanship wherever applicable to the Works included hereunder
C17: Refer to the Preambles section for full details of Method of Measurement and Pricing Clauses and allow in the rates for this section for compliance
B19: 9 | C19: LIGHTING ARMATURE WORKS
C20: Supply, lay or apply or install all MEP works as described and shown in the drawings included supporting materials, tools and all necessary fixing accessories to the following
B50: 9 | C50: =C19 -> LIGHTING ARMATURE WORKS | D50: Sub-total | I50: =SUM(I33:I49) -> 0
C53: GENERAL SUMMARY
B55: =B50 -> 9 | C55: =C50 -> LIGHTING ARMATURE WORKS | I55: =I50 -> 0
C57: GENERAL SUMMARY | D57: Sub-total | I57: =SUM(I55:I55) -> 0

Sheet Analisa
A1: analisa
A3: Lighting Cable Instalation
C4: Price /Mtr | D4: Qty | E4: Total
A5: Cable NYM 3x2,5 | C5: =20000 -> 20000 | D5: 6 | E5: =C5*D5 -> 120000
A6: Conduit | C6: 18000 | D6: 2 | E6: =C6*D6 -> 36000
A7: Labour | C7: 100000 | D7: 1 | E7: =C7*D7 -> 100000
A8: Accessories | C8: 50000 | D8: 1 | E8: =C8*D8 -> 50000
E9: =SUM(E5:E8) -> 306000
A11: GPO Cable Instalation
A12: Cable NYY 3x4 | C12: 36000 | D12: 6 | E12: =C12*D12 -> 216000
A13: Conduit | C13: 18000 | D13: 2 | E13: =C13*D13 -> 36000
A14: Labour | C14: 130000 | D14: 1 | E14: =C14*D14 -> 130000
A15: Accessories | C15: 50000 | D15: 1 | E15: =C15*D15 -> 50000
E16: =SUM(E12:E15) -> 432000
A18: ALL IN ONE WATER HEATER
A19: CAP. 300Ltr | C19: 34000000 | D19: 1 | E19: =C19*D19 -> 34000000
A20: Shipping + Tax + Misc cost | C20: =(C19*11%)+1500000 -> 5240000 | D20: 1 | E20: =C20*D20 -> 5240000
E21: =SUM(E19:E20) -> 39240000
A23: CAP. 200Ltr | C23: 29000000 | D23: 1 | E23: =C23*D23 -> 29000000
A24: Shipping + Tax + Misc cost | C24: =(C23*11%)+1500000 -> 4690000 | D24: 1 | E24: =C24*D24 -> 4690000
E25: =SUM(E23:E24) -> 33690000
A28: Combiner Panel Solar Panel
A29: MCB DC 2PH 63A | C29: 1350000 | D29: 5 | E29: =C29*D29 -> 6750000
A30: MCCB 3P | B30: 100 | C30: 2400000 | D30: 2 | E30: =C30*D30 -> 4800000
A31: Box Panel | C31: 5550000 | D31: 1 | E31: =C31*D31 -> 5550000
A32: Surge Arester 2ph | C32: 2150000 | D32: 5 | E32: =C32*D32 -> 10750000
A33: accessories + CU terminal bar | C33: 3500000 | D33: 1 | E33: =C33*D33 -> 3500000
A34: Wiring + Supporting Material | C34: 3000000 | D34: 1 | E34: =C34*D34 -> 3000000
E35: =SUM(E29:E34) -> 34350000
A37: SDB
A38: MCCB 3P | B38: 63 | C38: 2300000 | D38: 1 | E38: =C38*D38 -> 2300000
A39: MCCB 3P | B39: 100 | C39: 2400000 | D39: 2 | E39: =C39*D39 -> 4800000
A40: MCCB 3P | B40: 50 | C40: 2300000 | D40: 4 | E40: =C40*D40 -> 9200000
A41: MCCB 3P | B41: 200 | C41: 4750000 | D41: 1 | E41: =C41*D41 -> 4750000
A42: MCCB 3P | B42: 400 | C42: 5750000 | D42: 2 | E42: =C42*D42 -> 11500000
A43: Panel encloser box 1200x850x300 ip66 | B43: 1 | C43: 15000000 | D43: 1 | E43: =C43*D43 -> 15000000
A44: indicator + accessories + terminal block + CU block | B44: 1 | C44: 7500000 | D44: 1 | E44: =C44*D44 -> 7500000
A45: DIN RAIL KWH METER | B45: 6 | C45: 4250000 | D45: 6 | E45: =C45*D45 -> 25500000
A46: Mechanic Switch Cos Socomec 4phase 400a 41ac4040 | B46: 1 | C46: 6750000 | D46: 1 | E46: =C46*D46 -> 6750000
A47: Display Management | C47: 6750000 | D47: 2 | E47: =C47*D47 -> 13500000
...
